BEGIN:VCALENDAR
VERSION:2.0
PRODID:-//Create Wolwespruit - ECPv6.7.0//NONSGML v1.0//EN
CALSCALE:GREGORIAN
METHOD:PUBLISH
X-ORIGINAL-URL:http://www.createwolwespruit.co.za
X-WR-CALDESC:Events for Create Wolwespruit
REFRESH-INTERVAL;VALUE=DURATION:PT1H
X-Robots-Tag:noindex
X-PUBLISHED-TTL:PT1H
BEGIN:VTIMEZONE
TZID:UTC
BEGIN:STANDARD
TZOFFSETFROM:+0000
TZOFFSETTO:+0000
TZNAME:UTC
DTSTART:20270101T000000
END:STANDARD
END:VTIMEZONE
BEGIN:VEVENT
DTSTART;TZID=UTC:20270403T090000
DTEND;TZID=UTC:20270403T170000
DTSTAMP:20260423T124546
CREATED:20241128T083952Z
LAST-MODIFIED:20241128T084111Z
UID:10000484-1806742800-1806771600@www.createwolwespruit.co.za
SUMMARY:Fills up fast....
DESCRIPTION:Be sure to book as Saturdays fill up fast. Click below \nBook for up to 8 people        Book for 8 people or more
URL:http://www.createwolwespruit.co.za/event/fills-up-fast/2027-04-03/
LOCATION:Create Wolwespruit\, 501 Jochemus St\, Erasmuskloof\, Pretoria\, Gauteng\, 0048\, South Africa
ORGANIZER;CN="Vicky":MAILTO:info@createwolwespruit.co.za
END:VEVENT
BEGIN:VEVENT
DTSTART;TZID=UTC:20270404T080000
DTEND;TZID=UTC:20270404T170000
DTSTAMP:20260423T124546
CREATED:20241128T084951Z
LAST-MODIFIED:20241128T084951Z
UID:10000745-1806825600-1806858000@www.createwolwespruit.co.za
SUMMARY:SUNDAY FUNDAY
DESCRIPTION:Click below to make your SUNDAY a FUNDAY \nBook for up to 8 people        Book for 8 people or more \n 
URL:http://www.createwolwespruit.co.za/event/sunday-funday/2027-04-04/
LOCATION:Create Wolwespruit\, 501 Jochemus St\, Erasmuskloof\, Pretoria\, Gauteng\, 0048\, South Africa
ORGANIZER;CN="Vicky":MAILTO:info@createwolwespruit.co.za
END:VEVENT
BEGIN:VEVENT
DTSTART;TZID=UTC:20270410T090000
DTEND;TZID=UTC:20270410T170000
DTSTAMP:20260423T124546
CREATED:20241128T083952Z
LAST-MODIFIED:20241128T084111Z
UID:10000485-1807347600-1807376400@www.createwolwespruit.co.za
SUMMARY:Fills up fast....
DESCRIPTION:Be sure to book as Saturdays fill up fast. Click below \nBook for up to 8 people        Book for 8 people or more
URL:http://www.createwolwespruit.co.za/event/fills-up-fast/2027-04-10/
LOCATION:Create Wolwespruit\, 501 Jochemus St\, Erasmuskloof\, Pretoria\, Gauteng\, 0048\, South Africa
ORGANIZER;CN="Vicky":MAILTO:info@createwolwespruit.co.za
END:VEVENT
BEGIN:VEVENT
DTSTART;TZID=UTC:20270411T080000
DTEND;TZID=UTC:20270411T170000
DTSTAMP:20260423T124546
CREATED:20241128T084951Z
LAST-MODIFIED:20241128T084951Z
UID:10000746-1807430400-1807462800@www.createwolwespruit.co.za
SUMMARY:SUNDAY FUNDAY
DESCRIPTION:Click below to make your SUNDAY a FUNDAY \nBook for up to 8 people        Book for 8 people or more \n 
URL:http://www.createwolwespruit.co.za/event/sunday-funday/2027-04-11/
LOCATION:Create Wolwespruit\, 501 Jochemus St\, Erasmuskloof\, Pretoria\, Gauteng\, 0048\, South Africa
ORGANIZER;CN="Vicky":MAILTO:info@createwolwespruit.co.za
END:VEVENT
BEGIN:VEVENT
DTSTART;TZID=UTC:20270417T090000
DTEND;TZID=UTC:20270417T170000
DTSTAMP:20260423T124546
CREATED:20241128T083952Z
LAST-MODIFIED:20241128T084111Z
UID:10000486-1807952400-1807981200@www.createwolwespruit.co.za
SUMMARY:Fills up fast....
DESCRIPTION:Be sure to book as Saturdays fill up fast. Click below \nBook for up to 8 people        Book for 8 people or more
URL:http://www.createwolwespruit.co.za/event/fills-up-fast/2027-04-17/
LOCATION:Create Wolwespruit\, 501 Jochemus St\, Erasmuskloof\, Pretoria\, Gauteng\, 0048\, South Africa
ORGANIZER;CN="Vicky":MAILTO:info@createwolwespruit.co.za
END:VEVENT
BEGIN:VEVENT
DTSTART;TZID=UTC:20270418T080000
DTEND;TZID=UTC:20270418T170000
DTSTAMP:20260423T124546
CREATED:20241128T084951Z
LAST-MODIFIED:20241128T084951Z
UID:10000747-1808035200-1808067600@www.createwolwespruit.co.za
SUMMARY:SUNDAY FUNDAY
DESCRIPTION:Click below to make your SUNDAY a FUNDAY \nBook for up to 8 people        Book for 8 people or more \n 
URL:http://www.createwolwespruit.co.za/event/sunday-funday/2027-04-18/
LOCATION:Create Wolwespruit\, 501 Jochemus St\, Erasmuskloof\, Pretoria\, Gauteng\, 0048\, South Africa
ORGANIZER;CN="Vicky":MAILTO:info@createwolwespruit.co.za
END:VEVENT
BEGIN:VEVENT
DTSTART;TZID=UTC:20270424T090000
DTEND;TZID=UTC:20270424T170000
DTSTAMP:20260423T124546
CREATED:20241128T083952Z
LAST-MODIFIED:20241128T084111Z
UID:10000487-1808557200-1808586000@www.createwolwespruit.co.za
SUMMARY:Fills up fast....
DESCRIPTION:Be sure to book as Saturdays fill up fast. Click below \nBook for up to 8 people        Book for 8 people or more
URL:http://www.createwolwespruit.co.za/event/fills-up-fast/2027-04-24/
LOCATION:Create Wolwespruit\, 501 Jochemus St\, Erasmuskloof\, Pretoria\, Gauteng\, 0048\, South Africa
ORGANIZER;CN="Vicky":MAILTO:info@createwolwespruit.co.za
END:VEVENT
BEGIN:VEVENT
DTSTART;TZID=UTC:20270425T080000
DTEND;TZID=UTC:20270425T170000
DTSTAMP:20260423T124546
CREATED:20241128T084951Z
LAST-MODIFIED:20241128T084951Z
UID:10000748-1808640000-1808672400@www.createwolwespruit.co.za
SUMMARY:SUNDAY FUNDAY
DESCRIPTION:Click below to make your SUNDAY a FUNDAY \nBook for up to 8 people        Book for 8 people or more \n 
URL:http://www.createwolwespruit.co.za/event/sunday-funday/2027-04-25/
LOCATION:Create Wolwespruit\, 501 Jochemus St\, Erasmuskloof\, Pretoria\, Gauteng\, 0048\, South Africa
ORGANIZER;CN="Vicky":MAILTO:info@createwolwespruit.co.za
END:VEVENT
END:VCALENDAR