BEGIN:VCALENDAR
VERSION:2.0
PRODID:-//Create Wolwespruit - ECPv6.7.0//NONSGML v1.0//EN
CALSCALE:GREGORIAN
METHOD:PUBLISH
X-ORIGINAL-URL:http://www.createwolwespruit.co.za
X-WR-CALDESC:Events for Create Wolwespruit
REFRESH-INTERVAL;VALUE=DURATION:PT1H
X-Robots-Tag:noindex
X-PUBLISHED-TTL:PT1H
BEGIN:VTIMEZONE
TZID:UTC
BEGIN:STANDARD
TZOFFSETFROM:+0000
TZOFFSETTO:+0000
TZNAME:UTC
DTSTART:20270101T000000
END:STANDARD
END:VTIMEZONE
BEGIN:VEVENT
DTSTART;TZID=UTC:20270501T090000
DTEND;TZID=UTC:20270501T170000
DTSTAMP:20260423T142546
CREATED:20241128T083952Z
LAST-MODIFIED:20241128T084111Z
UID:10000488-1809162000-1809190800@www.createwolwespruit.co.za
SUMMARY:Fills up fast....
DESCRIPTION:Be sure to book as Saturdays fill up fast. Click below \nBook for up to 8 people        Book for 8 people or more
URL:http://www.createwolwespruit.co.za/event/fills-up-fast/2027-05-01/
LOCATION:Create Wolwespruit\, 501 Jochemus St\, Erasmuskloof\, Pretoria\, Gauteng\, 0048\, South Africa
ORGANIZER;CN="Vicky":MAILTO:info@createwolwespruit.co.za
END:VEVENT
BEGIN:VEVENT
DTSTART;TZID=UTC:20270502T080000
DTEND;TZID=UTC:20270502T170000
DTSTAMP:20260423T142546
CREATED:20241128T084951Z
LAST-MODIFIED:20241128T084951Z
UID:10000749-1809244800-1809277200@www.createwolwespruit.co.za
SUMMARY:SUNDAY FUNDAY
DESCRIPTION:Click below to make your SUNDAY a FUNDAY \nBook for up to 8 people        Book for 8 people or more \n 
URL:http://www.createwolwespruit.co.za/event/sunday-funday/2027-05-02/
LOCATION:Create Wolwespruit\, 501 Jochemus St\, Erasmuskloof\, Pretoria\, Gauteng\, 0048\, South Africa
ORGANIZER;CN="Vicky":MAILTO:info@createwolwespruit.co.za
END:VEVENT
BEGIN:VEVENT
DTSTART;TZID=UTC:20270508T090000
DTEND;TZID=UTC:20270508T170000
DTSTAMP:20260423T142546
CREATED:20241128T083952Z
LAST-MODIFIED:20241128T084111Z
UID:10000489-1809766800-1809795600@www.createwolwespruit.co.za
SUMMARY:Fills up fast....
DESCRIPTION:Be sure to book as Saturdays fill up fast. Click below \nBook for up to 8 people        Book for 8 people or more
URL:http://www.createwolwespruit.co.za/event/fills-up-fast/2027-05-08/
LOCATION:Create Wolwespruit\, 501 Jochemus St\, Erasmuskloof\, Pretoria\, Gauteng\, 0048\, South Africa
ORGANIZER;CN="Vicky":MAILTO:info@createwolwespruit.co.za
END:VEVENT
BEGIN:VEVENT
DTSTART;TZID=UTC:20270509T080000
DTEND;TZID=UTC:20270509T170000
DTSTAMP:20260423T142546
CREATED:20241128T084951Z
LAST-MODIFIED:20241128T084951Z
UID:10000750-1809849600-1809882000@www.createwolwespruit.co.za
SUMMARY:SUNDAY FUNDAY
DESCRIPTION:Click below to make your SUNDAY a FUNDAY \nBook for up to 8 people        Book for 8 people or more \n 
URL:http://www.createwolwespruit.co.za/event/sunday-funday/2027-05-09/
LOCATION:Create Wolwespruit\, 501 Jochemus St\, Erasmuskloof\, Pretoria\, Gauteng\, 0048\, South Africa
ORGANIZER;CN="Vicky":MAILTO:info@createwolwespruit.co.za
END:VEVENT
BEGIN:VEVENT
DTSTART;TZID=UTC:20270515T090000
DTEND;TZID=UTC:20270515T170000
DTSTAMP:20260423T142546
CREATED:20241128T083952Z
LAST-MODIFIED:20241128T084111Z
UID:10000490-1810371600-1810400400@www.createwolwespruit.co.za
SUMMARY:Fills up fast....
DESCRIPTION:Be sure to book as Saturdays fill up fast. Click below \nBook for up to 8 people        Book for 8 people or more
URL:http://www.createwolwespruit.co.za/event/fills-up-fast/2027-05-15/
LOCATION:Create Wolwespruit\, 501 Jochemus St\, Erasmuskloof\, Pretoria\, Gauteng\, 0048\, South Africa
ORGANIZER;CN="Vicky":MAILTO:info@createwolwespruit.co.za
END:VEVENT
BEGIN:VEVENT
DTSTART;TZID=UTC:20270516T080000
DTEND;TZID=UTC:20270516T170000
DTSTAMP:20260423T142546
CREATED:20241128T084951Z
LAST-MODIFIED:20241128T084951Z
UID:10000751-1810454400-1810486800@www.createwolwespruit.co.za
SUMMARY:SUNDAY FUNDAY
DESCRIPTION:Click below to make your SUNDAY a FUNDAY \nBook for up to 8 people        Book for 8 people or more \n 
URL:http://www.createwolwespruit.co.za/event/sunday-funday/2027-05-16/
LOCATION:Create Wolwespruit\, 501 Jochemus St\, Erasmuskloof\, Pretoria\, Gauteng\, 0048\, South Africa
ORGANIZER;CN="Vicky":MAILTO:info@createwolwespruit.co.za
END:VEVENT
BEGIN:VEVENT
DTSTART;TZID=UTC:20270522T090000
DTEND;TZID=UTC:20270522T170000
DTSTAMP:20260423T142546
CREATED:20241128T083952Z
LAST-MODIFIED:20241128T084111Z
UID:10000491-1810976400-1811005200@www.createwolwespruit.co.za
SUMMARY:Fills up fast....
DESCRIPTION:Be sure to book as Saturdays fill up fast. Click below \nBook for up to 8 people        Book for 8 people or more
URL:http://www.createwolwespruit.co.za/event/fills-up-fast/2027-05-22/
LOCATION:Create Wolwespruit\, 501 Jochemus St\, Erasmuskloof\, Pretoria\, Gauteng\, 0048\, South Africa
ORGANIZER;CN="Vicky":MAILTO:info@createwolwespruit.co.za
END:VEVENT
BEGIN:VEVENT
DTSTART;TZID=UTC:20270523T080000
DTEND;TZID=UTC:20270523T170000
DTSTAMP:20260423T142546
CREATED:20241128T084951Z
LAST-MODIFIED:20241128T084951Z
UID:10000752-1811059200-1811091600@www.createwolwespruit.co.za
SUMMARY:SUNDAY FUNDAY
DESCRIPTION:Click below to make your SUNDAY a FUNDAY \nBook for up to 8 people        Book for 8 people or more \n 
URL:http://www.createwolwespruit.co.za/event/sunday-funday/2027-05-23/
LOCATION:Create Wolwespruit\, 501 Jochemus St\, Erasmuskloof\, Pretoria\, Gauteng\, 0048\, South Africa
ORGANIZER;CN="Vicky":MAILTO:info@createwolwespruit.co.za
END:VEVENT
BEGIN:VEVENT
DTSTART;TZID=UTC:20270529T090000
DTEND;TZID=UTC:20270529T170000
DTSTAMP:20260423T142546
CREATED:20241128T083952Z
LAST-MODIFIED:20241128T084111Z
UID:10000492-1811581200-1811610000@www.createwolwespruit.co.za
SUMMARY:Fills up fast....
DESCRIPTION:Be sure to book as Saturdays fill up fast. Click below \nBook for up to 8 people        Book for 8 people or more
URL:http://www.createwolwespruit.co.za/event/fills-up-fast/2027-05-29/
LOCATION:Create Wolwespruit\, 501 Jochemus St\, Erasmuskloof\, Pretoria\, Gauteng\, 0048\, South Africa
ORGANIZER;CN="Vicky":MAILTO:info@createwolwespruit.co.za
END:VEVENT
BEGIN:VEVENT
DTSTART;TZID=UTC:20270530T080000
DTEND;TZID=UTC:20270530T170000
DTSTAMP:20260423T142546
CREATED:20241128T084951Z
LAST-MODIFIED:20241128T084951Z
UID:10000753-1811664000-1811696400@www.createwolwespruit.co.za
SUMMARY:SUNDAY FUNDAY
DESCRIPTION:Click below to make your SUNDAY a FUNDAY \nBook for up to 8 people        Book for 8 people or more \n 
URL:http://www.createwolwespruit.co.za/event/sunday-funday/2027-05-30/
LOCATION:Create Wolwespruit\, 501 Jochemus St\, Erasmuskloof\, Pretoria\, Gauteng\, 0048\, South Africa
ORGANIZER;CN="Vicky":MAILTO:info@createwolwespruit.co.za
END:VEVENT
END:VCALENDAR