BEGIN:VCALENDAR
VERSION:2.0
PRODID:-//Create Wolwespruit - ECPv6.7.0//NONSGML v1.0//EN
CALSCALE:GREGORIAN
METHOD:PUBLISH
X-ORIGINAL-URL:http://www.createwolwespruit.co.za
X-WR-CALDESC:Events for Create Wolwespruit
REFRESH-INTERVAL;VALUE=DURATION:PT1H
X-Robots-Tag:noindex
X-PUBLISHED-TTL:PT1H
BEGIN:VTIMEZONE
TZID:UTC
BEGIN:STANDARD
TZOFFSETFROM:+0000
TZOFFSETTO:+0000
TZNAME:UTC
DTSTART:20270101T000000
END:STANDARD
END:VTIMEZONE
BEGIN:VEVENT
DTSTART;TZID=UTC:20271106T090000
DTEND;TZID=UTC:20271106T170000
DTSTAMP:20260425T163412
CREATED:20241128T083952Z
LAST-MODIFIED:20241128T084111Z
UID:10000515-1825491600-1825520400@www.createwolwespruit.co.za
SUMMARY:Fills up fast....
DESCRIPTION:Be sure to book as Saturdays fill up fast. Click below \nBook for up to 8 people        Book for 8 people or more
URL:http://www.createwolwespruit.co.za/event/fills-up-fast/2027-11-06/
LOCATION:Create Wolwespruit\, 501 Jochemus St\, Erasmuskloof\, Pretoria\, Gauteng\, 0048\, South Africa
ORGANIZER;CN="Vicky":MAILTO:info@createwolwespruit.co.za
END:VEVENT
BEGIN:VEVENT
DTSTART;TZID=UTC:20271107T080000
DTEND;TZID=UTC:20271107T170000
DTSTAMP:20260425T163413
CREATED:20241128T084951Z
LAST-MODIFIED:20241128T084951Z
UID:10000776-1825574400-1825606800@www.createwolwespruit.co.za
SUMMARY:SUNDAY FUNDAY
DESCRIPTION:Click below to make your SUNDAY a FUNDAY \nBook for up to 8 people        Book for 8 people or more \n 
URL:http://www.createwolwespruit.co.za/event/sunday-funday/2027-11-07/
LOCATION:Create Wolwespruit\, 501 Jochemus St\, Erasmuskloof\, Pretoria\, Gauteng\, 0048\, South Africa
ORGANIZER;CN="Vicky":MAILTO:info@createwolwespruit.co.za
END:VEVENT
BEGIN:VEVENT
DTSTART;TZID=UTC:20271113T090000
DTEND;TZID=UTC:20271113T170000
DTSTAMP:20260425T163413
CREATED:20241128T083952Z
LAST-MODIFIED:20241128T084111Z
UID:10000516-1826096400-1826125200@www.createwolwespruit.co.za
SUMMARY:Fills up fast....
DESCRIPTION:Be sure to book as Saturdays fill up fast. Click below \nBook for up to 8 people        Book for 8 people or more
URL:http://www.createwolwespruit.co.za/event/fills-up-fast/2027-11-13/
LOCATION:Create Wolwespruit\, 501 Jochemus St\, Erasmuskloof\, Pretoria\, Gauteng\, 0048\, South Africa
ORGANIZER;CN="Vicky":MAILTO:info@createwolwespruit.co.za
END:VEVENT
BEGIN:VEVENT
DTSTART;TZID=UTC:20271114T080000
DTEND;TZID=UTC:20271114T170000
DTSTAMP:20260425T163413
CREATED:20241128T084951Z
LAST-MODIFIED:20241128T084951Z
UID:10000777-1826179200-1826211600@www.createwolwespruit.co.za
SUMMARY:SUNDAY FUNDAY
DESCRIPTION:Click below to make your SUNDAY a FUNDAY \nBook for up to 8 people        Book for 8 people or more \n 
URL:http://www.createwolwespruit.co.za/event/sunday-funday/2027-11-14/
LOCATION:Create Wolwespruit\, 501 Jochemus St\, Erasmuskloof\, Pretoria\, Gauteng\, 0048\, South Africa
ORGANIZER;CN="Vicky":MAILTO:info@createwolwespruit.co.za
END:VEVENT
BEGIN:VEVENT
DTSTART;TZID=UTC:20271120T090000
DTEND;TZID=UTC:20271120T170000
DTSTAMP:20260425T163413
CREATED:20241128T083952Z
LAST-MODIFIED:20241128T084111Z
UID:10000517-1826701200-1826730000@www.createwolwespruit.co.za
SUMMARY:Fills up fast....
DESCRIPTION:Be sure to book as Saturdays fill up fast. Click below \nBook for up to 8 people        Book for 8 people or more
URL:http://www.createwolwespruit.co.za/event/fills-up-fast/2027-11-20/
LOCATION:Create Wolwespruit\, 501 Jochemus St\, Erasmuskloof\, Pretoria\, Gauteng\, 0048\, South Africa
ORGANIZER;CN="Vicky":MAILTO:info@createwolwespruit.co.za
END:VEVENT
BEGIN:VEVENT
DTSTART;TZID=UTC:20271121T080000
DTEND;TZID=UTC:20271121T170000
DTSTAMP:20260425T163413
CREATED:20241128T084951Z
LAST-MODIFIED:20241128T084951Z
UID:10000778-1826784000-1826816400@www.createwolwespruit.co.za
SUMMARY:SUNDAY FUNDAY
DESCRIPTION:Click below to make your SUNDAY a FUNDAY \nBook for up to 8 people        Book for 8 people or more \n 
URL:http://www.createwolwespruit.co.za/event/sunday-funday/2027-11-21/
LOCATION:Create Wolwespruit\, 501 Jochemus St\, Erasmuskloof\, Pretoria\, Gauteng\, 0048\, South Africa
ORGANIZER;CN="Vicky":MAILTO:info@createwolwespruit.co.za
END:VEVENT
BEGIN:VEVENT
DTSTART;TZID=UTC:20271127T090000
DTEND;TZID=UTC:20271127T170000
DTSTAMP:20260425T163413
CREATED:20241128T083952Z
LAST-MODIFIED:20241128T084111Z
UID:10000518-1827306000-1827334800@www.createwolwespruit.co.za
SUMMARY:Fills up fast....
DESCRIPTION:Be sure to book as Saturdays fill up fast. Click below \nBook for up to 8 people        Book for 8 people or more
URL:http://www.createwolwespruit.co.za/event/fills-up-fast/2027-11-27/
LOCATION:Create Wolwespruit\, 501 Jochemus St\, Erasmuskloof\, Pretoria\, Gauteng\, 0048\, South Africa
ORGANIZER;CN="Vicky":MAILTO:info@createwolwespruit.co.za
END:VEVENT
BEGIN:VEVENT
DTSTART;TZID=UTC:20271128T080000
DTEND;TZID=UTC:20271128T170000
DTSTAMP:20260425T163413
CREATED:20241128T084951Z
LAST-MODIFIED:20241128T084951Z
UID:10000779-1827388800-1827421200@www.createwolwespruit.co.za
SUMMARY:SUNDAY FUNDAY
DESCRIPTION:Click below to make your SUNDAY a FUNDAY \nBook for up to 8 people        Book for 8 people or more \n 
URL:http://www.createwolwespruit.co.za/event/sunday-funday/2027-11-28/
LOCATION:Create Wolwespruit\, 501 Jochemus St\, Erasmuskloof\, Pretoria\, Gauteng\, 0048\, South Africa
ORGANIZER;CN="Vicky":MAILTO:info@createwolwespruit.co.za
END:VEVENT
END:VCALENDAR