BEGIN:VCALENDAR
VERSION:2.0
PRODID:-//Create Wolwespruit - ECPv6.7.0//NONSGML v1.0//EN
CALSCALE:GREGORIAN
METHOD:PUBLISH
X-WR-CALNAME:Create Wolwespruit
X-ORIGINAL-URL:http://www.createwolwespruit.co.za
X-WR-CALDESC:Events for Create Wolwespruit
REFRESH-INTERVAL;VALUE=DURATION:PT1H
X-Robots-Tag:noindex
X-PUBLISHED-TTL:PT1H
BEGIN:VTIMEZONE
TZID:UTC
BEGIN:STANDARD
TZOFFSETFROM:+0000
TZOFFSETTO:+0000
TZNAME:UTC
DTSTART:20280101T000000
END:STANDARD
END:VTIMEZONE
BEGIN:VEVENT
DTSTART;TZID=UTC:20280304T090000
DTEND;TZID=UTC:20280304T170000
DTSTAMP:20260425T232202
CREATED:20241128T083952Z
LAST-MODIFIED:20241128T084111Z
UID:10000532-1835773200-1835802000@www.createwolwespruit.co.za
SUMMARY:Fills up fast....
DESCRIPTION:Be sure to book as Saturdays fill up fast. Click below \nBook for up to 8 people        Book for 8 people or more
URL:http://www.createwolwespruit.co.za/event/fills-up-fast/2028-03-04/
LOCATION:Create Wolwespruit\, 501 Jochemus St\, Erasmuskloof\, Pretoria\, Gauteng\, 0048\, South Africa
ORGANIZER;CN="Vicky":MAILTO:info@createwolwespruit.co.za
END:VEVENT
BEGIN:VEVENT
DTSTART;TZID=UTC:20280305T080000
DTEND;TZID=UTC:20280305T170000
DTSTAMP:20260425T232202
CREATED:20241128T084951Z
LAST-MODIFIED:20241128T084951Z
UID:10000793-1835856000-1835888400@www.createwolwespruit.co.za
SUMMARY:SUNDAY FUNDAY
DESCRIPTION:Click below to make your SUNDAY a FUNDAY \nBook for up to 8 people        Book for 8 people or more \n 
URL:http://www.createwolwespruit.co.za/event/sunday-funday/2028-03-05/
LOCATION:Create Wolwespruit\, 501 Jochemus St\, Erasmuskloof\, Pretoria\, Gauteng\, 0048\, South Africa
ORGANIZER;CN="Vicky":MAILTO:info@createwolwespruit.co.za
END:VEVENT
BEGIN:VEVENT
DTSTART;TZID=UTC:20280311T090000
DTEND;TZID=UTC:20280311T170000
DTSTAMP:20260425T232202
CREATED:20241128T083952Z
LAST-MODIFIED:20241128T084111Z
UID:10000533-1836378000-1836406800@www.createwolwespruit.co.za
SUMMARY:Fills up fast....
DESCRIPTION:Be sure to book as Saturdays fill up fast. Click below \nBook for up to 8 people        Book for 8 people or more
URL:http://www.createwolwespruit.co.za/event/fills-up-fast/2028-03-11/
LOCATION:Create Wolwespruit\, 501 Jochemus St\, Erasmuskloof\, Pretoria\, Gauteng\, 0048\, South Africa
ORGANIZER;CN="Vicky":MAILTO:info@createwolwespruit.co.za
END:VEVENT
BEGIN:VEVENT
DTSTART;TZID=UTC:20280312T080000
DTEND;TZID=UTC:20280312T170000
DTSTAMP:20260425T232202
CREATED:20241128T084951Z
LAST-MODIFIED:20241128T084951Z
UID:10000794-1836460800-1836493200@www.createwolwespruit.co.za
SUMMARY:SUNDAY FUNDAY
DESCRIPTION:Click below to make your SUNDAY a FUNDAY \nBook for up to 8 people        Book for 8 people or more \n 
URL:http://www.createwolwespruit.co.za/event/sunday-funday/2028-03-12/
LOCATION:Create Wolwespruit\, 501 Jochemus St\, Erasmuskloof\, Pretoria\, Gauteng\, 0048\, South Africa
ORGANIZER;CN="Vicky":MAILTO:info@createwolwespruit.co.za
END:VEVENT
BEGIN:VEVENT
DTSTART;TZID=UTC:20280318T090000
DTEND;TZID=UTC:20280318T170000
DTSTAMP:20260425T232202
CREATED:20241128T083952Z
LAST-MODIFIED:20241128T084111Z
UID:10000534-1836982800-1837011600@www.createwolwespruit.co.za
SUMMARY:Fills up fast....
DESCRIPTION:Be sure to book as Saturdays fill up fast. Click below \nBook for up to 8 people        Book for 8 people or more
URL:http://www.createwolwespruit.co.za/event/fills-up-fast/2028-03-18/
LOCATION:Create Wolwespruit\, 501 Jochemus St\, Erasmuskloof\, Pretoria\, Gauteng\, 0048\, South Africa
ORGANIZER;CN="Vicky":MAILTO:info@createwolwespruit.co.za
END:VEVENT
BEGIN:VEVENT
DTSTART;TZID=UTC:20280319T080000
DTEND;TZID=UTC:20280319T170000
DTSTAMP:20260425T232202
CREATED:20241128T084951Z
LAST-MODIFIED:20241128T084951Z
UID:10000795-1837065600-1837098000@www.createwolwespruit.co.za
SUMMARY:SUNDAY FUNDAY
DESCRIPTION:Click below to make your SUNDAY a FUNDAY \nBook for up to 8 people        Book for 8 people or more \n 
URL:http://www.createwolwespruit.co.za/event/sunday-funday/2028-03-19/
LOCATION:Create Wolwespruit\, 501 Jochemus St\, Erasmuskloof\, Pretoria\, Gauteng\, 0048\, South Africa
ORGANIZER;CN="Vicky":MAILTO:info@createwolwespruit.co.za
END:VEVENT
BEGIN:VEVENT
DTSTART;TZID=UTC:20280325T090000
DTEND;TZID=UTC:20280325T170000
DTSTAMP:20260425T232202
CREATED:20241128T083952Z
LAST-MODIFIED:20241128T084111Z
UID:10000535-1837587600-1837616400@www.createwolwespruit.co.za
SUMMARY:Fills up fast....
DESCRIPTION:Be sure to book as Saturdays fill up fast. Click below \nBook for up to 8 people        Book for 8 people or more
URL:http://www.createwolwespruit.co.za/event/fills-up-fast/2028-03-25/
LOCATION:Create Wolwespruit\, 501 Jochemus St\, Erasmuskloof\, Pretoria\, Gauteng\, 0048\, South Africa
ORGANIZER;CN="Vicky":MAILTO:info@createwolwespruit.co.za
END:VEVENT
BEGIN:VEVENT
DTSTART;TZID=UTC:20280326T080000
DTEND;TZID=UTC:20280326T170000
DTSTAMP:20260425T232202
CREATED:20241128T084951Z
LAST-MODIFIED:20241128T084951Z
UID:10000796-1837670400-1837702800@www.createwolwespruit.co.za
SUMMARY:SUNDAY FUNDAY
DESCRIPTION:Click below to make your SUNDAY a FUNDAY \nBook for up to 8 people        Book for 8 people or more \n 
URL:http://www.createwolwespruit.co.za/event/sunday-funday/2028-03-26/
LOCATION:Create Wolwespruit\, 501 Jochemus St\, Erasmuskloof\, Pretoria\, Gauteng\, 0048\, South Africa
ORGANIZER;CN="Vicky":MAILTO:info@createwolwespruit.co.za
END:VEVENT
END:VCALENDAR