BEGIN:VCALENDAR
VERSION:2.0
PRODID:-//Create Wolwespruit - ECPv6.7.0//NONSGML v1.0//EN
CALSCALE:GREGORIAN
METHOD:PUBLISH
X-WR-CALNAME:Create Wolwespruit
X-ORIGINAL-URL:https://www.createwolwespruit.co.za
X-WR-CALDESC:Events for Create Wolwespruit
REFRESH-INTERVAL;VALUE=DURATION:PT1H
X-Robots-Tag:noindex
X-PUBLISHED-TTL:PT1H
BEGIN:VTIMEZONE
TZID:UTC
BEGIN:STANDARD
TZOFFSETFROM:+0000
TZOFFSETTO:+0000
TZNAME:UTC
DTSTART:20250101T000000
END:STANDARD
END:VTIMEZONE
BEGIN:VEVENT
DTSTART;VALUE=DATE:20250101
DTEND;VALUE=DATE:20250102
DTSTAMP:20260423T134222
CREATED:20240912T070027Z
LAST-MODIFIED:20240912T070027Z
UID:10000020-1735689600-1735775999@www.createwolwespruit.co.za
SUMMARY:CLOSED
DESCRIPTION:Create Wolwespruit is closed.
URL:https://www.createwolwespruit.co.za/event/closed-4/
LOCATION:Create Wolwespruit\, 501 Jochemus St\, Erasmuskloof\, Pretoria\, Gauteng\, 0048\, South Africa
CATEGORIES:Closed
ORGANIZER;CN="Vicky":MAILTO:info@createwolwespruit.co.za
END:VEVENT
BEGIN:VEVENT
DTSTART;VALUE=DATE:20250102
DTEND;VALUE=DATE:20250103
DTSTAMP:20260423T134222
CREATED:20240912T070205Z
LAST-MODIFIED:20240912T070205Z
UID:10000021-1735776000-1735862399@www.createwolwespruit.co.za
SUMMARY:CLOSED
DESCRIPTION:Create Wolwespruit is closed.
URL:https://www.createwolwespruit.co.za/event/closed-5/
LOCATION:Create Wolwespruit\, 501 Jochemus St\, Erasmuskloof\, Pretoria\, Gauteng\, 0048\, South Africa
CATEGORIES:Closed
ORGANIZER;CN="Vicky":MAILTO:info@createwolwespruit.co.za
END:VEVENT
BEGIN:VEVENT
DTSTART;VALUE=DATE:20250104
DTEND;VALUE=DATE:20250105
DTSTAMP:20260423T134222
CREATED:20240911T091212Z
LAST-MODIFIED:20241003T113324Z
UID:10000083-1735948800-1736035199@www.createwolwespruit.co.za
SUMMARY:Fills up fast
DESCRIPTION:Click the below button to book. \n			\n				BOOK HERE\n			\n				\n				\n				\n				\n				Be sure to book as Saturdays fill up fast!
URL:https://www.createwolwespruit.co.za/event/fill-up-fast/2025-01-04/
LOCATION:Create Wolwespruit\, 501 Jochemus St\, Erasmuskloof\, Pretoria\, Gauteng\, 0048\, South Africa
CATEGORIES:Fill up Fast
ORGANIZER;CN="Vicky":MAILTO:info@createwolwespruit.co.za
END:VEVENT
BEGIN:VEVENT
DTSTART;TZID=UTC:20250104T090000
DTEND;TZID=UTC:20250104T170000
DTSTAMP:20260423T134222
CREATED:20241128T083952Z
LAST-MODIFIED:20241128T084111Z
UID:10000367-1735981200-1736010000@www.createwolwespruit.co.za
SUMMARY:Fills up fast....
DESCRIPTION:Be sure to book as Saturdays fill up fast. Click below \nBook for up to 8 people        Book for 8 people or more
URL:https://www.createwolwespruit.co.za/event/fills-up-fast/2025-01-04/
LOCATION:Create Wolwespruit\, 501 Jochemus St\, Erasmuskloof\, Pretoria\, Gauteng\, 0048\, South Africa
ORGANIZER;CN="Vicky":MAILTO:info@createwolwespruit.co.za
END:VEVENT
BEGIN:VEVENT
DTSTART;TZID=UTC:20250105T080000
DTEND;TZID=UTC:20250105T170000
DTSTAMP:20260423T134222
CREATED:20241128T084951Z
LAST-MODIFIED:20241128T084951Z
UID:10000628-1736064000-1736096400@www.createwolwespruit.co.za
SUMMARY:SUNDAY FUNDAY
DESCRIPTION:Click below to make your SUNDAY a FUNDAY \nBook for up to 8 people        Book for 8 people or more \n 
URL:https://www.createwolwespruit.co.za/event/sunday-funday/2025-01-05/
LOCATION:Create Wolwespruit\, 501 Jochemus St\, Erasmuskloof\, Pretoria\, Gauteng\, 0048\, South Africa
ORGANIZER;CN="Vicky":MAILTO:info@createwolwespruit.co.za
END:VEVENT
BEGIN:VEVENT
DTSTART;TZID=UTC:20250111T090000
DTEND;TZID=UTC:20250111T170000
DTSTAMP:20260423T134222
CREATED:20241128T083952Z
LAST-MODIFIED:20241128T084111Z
UID:10000368-1736586000-1736614800@www.createwolwespruit.co.za
SUMMARY:Fills up fast....
DESCRIPTION:Be sure to book as Saturdays fill up fast. Click below \nBook for up to 8 people        Book for 8 people or more
URL:https://www.createwolwespruit.co.za/event/fills-up-fast/2025-01-11/
LOCATION:Create Wolwespruit\, 501 Jochemus St\, Erasmuskloof\, Pretoria\, Gauteng\, 0048\, South Africa
ORGANIZER;CN="Vicky":MAILTO:info@createwolwespruit.co.za
END:VEVENT
BEGIN:VEVENT
DTSTART;TZID=UTC:20250112T080000
DTEND;TZID=UTC:20250112T170000
DTSTAMP:20260423T134222
CREATED:20241128T084951Z
LAST-MODIFIED:20241128T084951Z
UID:10000629-1736668800-1736701200@www.createwolwespruit.co.za
SUMMARY:SUNDAY FUNDAY
DESCRIPTION:Click below to make your SUNDAY a FUNDAY \nBook for up to 8 people        Book for 8 people or more \n 
URL:https://www.createwolwespruit.co.za/event/sunday-funday/2025-01-12/
LOCATION:Create Wolwespruit\, 501 Jochemus St\, Erasmuskloof\, Pretoria\, Gauteng\, 0048\, South Africa
ORGANIZER;CN="Vicky":MAILTO:info@createwolwespruit.co.za
END:VEVENT
BEGIN:VEVENT
DTSTART;TZID=UTC:20250118T090000
DTEND;TZID=UTC:20250118T170000
DTSTAMP:20260423T134222
CREATED:20241128T083952Z
LAST-MODIFIED:20241128T084111Z
UID:10000369-1737190800-1737219600@www.createwolwespruit.co.za
SUMMARY:Fills up fast....
DESCRIPTION:Be sure to book as Saturdays fill up fast. Click below \nBook for up to 8 people        Book for 8 people or more
URL:https://www.createwolwespruit.co.za/event/fills-up-fast/2025-01-18/
LOCATION:Create Wolwespruit\, 501 Jochemus St\, Erasmuskloof\, Pretoria\, Gauteng\, 0048\, South Africa
ORGANIZER;CN="Vicky":MAILTO:info@createwolwespruit.co.za
END:VEVENT
BEGIN:VEVENT
DTSTART;TZID=UTC:20250119T080000
DTEND;TZID=UTC:20250119T170000
DTSTAMP:20260423T134222
CREATED:20241128T084951Z
LAST-MODIFIED:20241128T084951Z
UID:10000630-1737273600-1737306000@www.createwolwespruit.co.za
SUMMARY:SUNDAY FUNDAY
DESCRIPTION:Click below to make your SUNDAY a FUNDAY \nBook for up to 8 people        Book for 8 people or more \n 
URL:https://www.createwolwespruit.co.za/event/sunday-funday/2025-01-19/
LOCATION:Create Wolwespruit\, 501 Jochemus St\, Erasmuskloof\, Pretoria\, Gauteng\, 0048\, South Africa
ORGANIZER;CN="Vicky":MAILTO:info@createwolwespruit.co.za
END:VEVENT
BEGIN:VEVENT
DTSTART;TZID=UTC:20250125T090000
DTEND;TZID=UTC:20250125T170000
DTSTAMP:20260423T134222
CREATED:20241128T083952Z
LAST-MODIFIED:20241128T084111Z
UID:10000370-1737795600-1737824400@www.createwolwespruit.co.za
SUMMARY:Fills up fast....
DESCRIPTION:Be sure to book as Saturdays fill up fast. Click below \nBook for up to 8 people        Book for 8 people or more
URL:https://www.createwolwespruit.co.za/event/fills-up-fast/2025-01-25/
LOCATION:Create Wolwespruit\, 501 Jochemus St\, Erasmuskloof\, Pretoria\, Gauteng\, 0048\, South Africa
ORGANIZER;CN="Vicky":MAILTO:info@createwolwespruit.co.za
END:VEVENT
BEGIN:VEVENT
DTSTART;TZID=UTC:20250126T080000
DTEND;TZID=UTC:20250126T170000
DTSTAMP:20260423T134222
CREATED:20241128T084951Z
LAST-MODIFIED:20241128T084951Z
UID:10000631-1737878400-1737910800@www.createwolwespruit.co.za
SUMMARY:SUNDAY FUNDAY
DESCRIPTION:Click below to make your SUNDAY a FUNDAY \nBook for up to 8 people        Book for 8 people or more \n 
URL:https://www.createwolwespruit.co.za/event/sunday-funday/2025-01-26/
LOCATION:Create Wolwespruit\, 501 Jochemus St\, Erasmuskloof\, Pretoria\, Gauteng\, 0048\, South Africa
ORGANIZER;CN="Vicky":MAILTO:info@createwolwespruit.co.za
END:VEVENT
END:VCALENDAR