BEGIN:VCALENDAR
VERSION:2.0
PRODID:-//Create Wolwespruit - ECPv6.7.0//NONSGML v1.0//EN
CALSCALE:GREGORIAN
METHOD:PUBLISH
X-WR-CALNAME:Create Wolwespruit
X-ORIGINAL-URL:https://www.createwolwespruit.co.za
X-WR-CALDESC:Events for Create Wolwespruit
REFRESH-INTERVAL;VALUE=DURATION:PT1H
X-Robots-Tag:noindex
X-PUBLISHED-TTL:PT1H
BEGIN:VTIMEZONE
TZID:UTC
BEGIN:STANDARD
TZOFFSETFROM:+0000
TZOFFSETTO:+0000
TZNAME:UTC
DTSTART:20250101T000000
END:STANDARD
END:VTIMEZONE
BEGIN:VEVENT
DTSTART;TZID=UTC:20250704T173000
DTEND;TZID=UTC:20250704T210000
DTSTAMP:20260421T110800
CREATED:20241128T083102Z
LAST-MODIFIED:20250528T090100Z
UID:10000096-1751650200-1751662800@www.createwolwespruit.co.za
SUMMARY:PAINT NIGHT
DESCRIPTION:Click below to book for our bi-weekly PAINT NIGHT \nBook for up to 8 people        Book for 8 people or more
URL:https://www.createwolwespruit.co.za/event/paint-night/2025-07-04/
LOCATION:Create Wolwespruit\, 501 Jochemus St\, Erasmuskloof\, Pretoria\, Gauteng\, 0048\, South Africa
ORGANIZER;CN="Vicky":MAILTO:info@createwolwespruit.co.za
END:VEVENT
BEGIN:VEVENT
DTSTART;TZID=UTC:20250705T090000
DTEND;TZID=UTC:20250705T170000
DTSTAMP:20260421T110800
CREATED:20241128T083952Z
LAST-MODIFIED:20241128T084111Z
UID:10000393-1751706000-1751734800@www.createwolwespruit.co.za
SUMMARY:Fills up fast....
DESCRIPTION:Be sure to book as Saturdays fill up fast. Click below \nBook for up to 8 people        Book for 8 people or more
URL:https://www.createwolwespruit.co.za/event/fills-up-fast/2025-07-05/
LOCATION:Create Wolwespruit\, 501 Jochemus St\, Erasmuskloof\, Pretoria\, Gauteng\, 0048\, South Africa
ORGANIZER;CN="Vicky":MAILTO:info@createwolwespruit.co.za
END:VEVENT
BEGIN:VEVENT
DTSTART;TZID=UTC:20250706T080000
DTEND;TZID=UTC:20250706T170000
DTSTAMP:20260421T110800
CREATED:20241128T084951Z
LAST-MODIFIED:20241128T084951Z
UID:10000654-1751788800-1751821200@www.createwolwespruit.co.za
SUMMARY:SUNDAY FUNDAY
DESCRIPTION:Click below to make your SUNDAY a FUNDAY \nBook for up to 8 people        Book for 8 people or more \n 
URL:https://www.createwolwespruit.co.za/event/sunday-funday/2025-07-06/
LOCATION:Create Wolwespruit\, 501 Jochemus St\, Erasmuskloof\, Pretoria\, Gauteng\, 0048\, South Africa
ORGANIZER;CN="Vicky":MAILTO:info@createwolwespruit.co.za
END:VEVENT
BEGIN:VEVENT
DTSTART;TZID=UTC:20250712T090000
DTEND;TZID=UTC:20250712T170000
DTSTAMP:20260421T110800
CREATED:20241128T083952Z
LAST-MODIFIED:20241128T084111Z
UID:10000394-1752310800-1752339600@www.createwolwespruit.co.za
SUMMARY:Fills up fast....
DESCRIPTION:Be sure to book as Saturdays fill up fast. Click below \nBook for up to 8 people        Book for 8 people or more
URL:https://www.createwolwespruit.co.za/event/fills-up-fast/2025-07-12/
LOCATION:Create Wolwespruit\, 501 Jochemus St\, Erasmuskloof\, Pretoria\, Gauteng\, 0048\, South Africa
ORGANIZER;CN="Vicky":MAILTO:info@createwolwespruit.co.za
END:VEVENT
BEGIN:VEVENT
DTSTART;TZID=UTC:20250713T080000
DTEND;TZID=UTC:20250713T170000
DTSTAMP:20260421T110800
CREATED:20241128T084951Z
LAST-MODIFIED:20241128T084951Z
UID:10000655-1752393600-1752426000@www.createwolwespruit.co.za
SUMMARY:SUNDAY FUNDAY
DESCRIPTION:Click below to make your SUNDAY a FUNDAY \nBook for up to 8 people        Book for 8 people or more \n 
URL:https://www.createwolwespruit.co.za/event/sunday-funday/2025-07-13/
LOCATION:Create Wolwespruit\, 501 Jochemus St\, Erasmuskloof\, Pretoria\, Gauteng\, 0048\, South Africa
ORGANIZER;CN="Vicky":MAILTO:info@createwolwespruit.co.za
END:VEVENT
BEGIN:VEVENT
DTSTART;TZID=UTC:20250719T090000
DTEND;TZID=UTC:20250719T170000
DTSTAMP:20260421T110800
CREATED:20241128T083952Z
LAST-MODIFIED:20241128T084111Z
UID:10000395-1752915600-1752944400@www.createwolwespruit.co.za
SUMMARY:Fills up fast....
DESCRIPTION:Be sure to book as Saturdays fill up fast. Click below \nBook for up to 8 people        Book for 8 people or more
URL:https://www.createwolwespruit.co.za/event/fills-up-fast/2025-07-19/
LOCATION:Create Wolwespruit\, 501 Jochemus St\, Erasmuskloof\, Pretoria\, Gauteng\, 0048\, South Africa
ORGANIZER;CN="Vicky":MAILTO:info@createwolwespruit.co.za
END:VEVENT
BEGIN:VEVENT
DTSTART;TZID=UTC:20250720T080000
DTEND;TZID=UTC:20250720T170000
DTSTAMP:20260421T110800
CREATED:20241128T084951Z
LAST-MODIFIED:20241128T084951Z
UID:10000656-1752998400-1753030800@www.createwolwespruit.co.za
SUMMARY:SUNDAY FUNDAY
DESCRIPTION:Click below to make your SUNDAY a FUNDAY \nBook for up to 8 people        Book for 8 people or more \n 
URL:https://www.createwolwespruit.co.za/event/sunday-funday/2025-07-20/
LOCATION:Create Wolwespruit\, 501 Jochemus St\, Erasmuskloof\, Pretoria\, Gauteng\, 0048\, South Africa
ORGANIZER;CN="Vicky":MAILTO:info@createwolwespruit.co.za
END:VEVENT
BEGIN:VEVENT
DTSTART;TZID=UTC:20250726T090000
DTEND;TZID=UTC:20250726T170000
DTSTAMP:20260421T110800
CREATED:20241128T083952Z
LAST-MODIFIED:20241128T084111Z
UID:10000396-1753520400-1753549200@www.createwolwespruit.co.za
SUMMARY:Fills up fast....
DESCRIPTION:Be sure to book as Saturdays fill up fast. Click below \nBook for up to 8 people        Book for 8 people or more
URL:https://www.createwolwespruit.co.za/event/fills-up-fast/2025-07-26/
LOCATION:Create Wolwespruit\, 501 Jochemus St\, Erasmuskloof\, Pretoria\, Gauteng\, 0048\, South Africa
ORGANIZER;CN="Vicky":MAILTO:info@createwolwespruit.co.za
END:VEVENT
BEGIN:VEVENT
DTSTART;TZID=UTC:20250727T080000
DTEND;TZID=UTC:20250727T170000
DTSTAMP:20260421T110800
CREATED:20241128T084951Z
LAST-MODIFIED:20241128T084951Z
UID:10000657-1753603200-1753635600@www.createwolwespruit.co.za
SUMMARY:SUNDAY FUNDAY
DESCRIPTION:Click below to make your SUNDAY a FUNDAY \nBook for up to 8 people        Book for 8 people or more \n 
URL:https://www.createwolwespruit.co.za/event/sunday-funday/2025-07-27/
LOCATION:Create Wolwespruit\, 501 Jochemus St\, Erasmuskloof\, Pretoria\, Gauteng\, 0048\, South Africa
ORGANIZER;CN="Vicky":MAILTO:info@createwolwespruit.co.za
END:VEVENT
END:VCALENDAR