BEGIN:VCALENDAR
VERSION:2.0
PRODID:-//Create Wolwespruit - ECPv6.7.0//NONSGML v1.0//EN
CALSCALE:GREGORIAN
METHOD:PUBLISH
X-WR-CALNAME:Create Wolwespruit
X-ORIGINAL-URL:https://www.createwolwespruit.co.za
X-WR-CALDESC:Events for Create Wolwespruit
REFRESH-INTERVAL;VALUE=DURATION:PT1H
X-Robots-Tag:noindex
X-PUBLISHED-TTL:PT1H
BEGIN:VTIMEZONE
TZID:UTC
BEGIN:STANDARD
TZOFFSETFROM:+0000
TZOFFSETTO:+0000
TZNAME:UTC
DTSTART:20250101T000000
END:STANDARD
END:VTIMEZONE
BEGIN:VEVENT
DTSTART;TZID=UTC:20250906T090000
DTEND;TZID=UTC:20250906T170000
DTSTAMP:20260419T175815
CREATED:20241128T083952Z
LAST-MODIFIED:20241128T084111Z
UID:10000402-1757149200-1757178000@www.createwolwespruit.co.za
SUMMARY:Fills up fast....
DESCRIPTION:Be sure to book as Saturdays fill up fast. Click below \nBook for up to 8 people        Book for 8 people or more
URL:https://www.createwolwespruit.co.za/event/fills-up-fast/2025-09-06/
LOCATION:Create Wolwespruit\, 501 Jochemus St\, Erasmuskloof\, Pretoria\, Gauteng\, 0048\, South Africa
ORGANIZER;CN="Vicky":MAILTO:info@createwolwespruit.co.za
END:VEVENT
BEGIN:VEVENT
DTSTART;TZID=UTC:20250907T080000
DTEND;TZID=UTC:20250907T170000
DTSTAMP:20260419T175815
CREATED:20241128T084951Z
LAST-MODIFIED:20241128T084951Z
UID:10000663-1757232000-1757264400@www.createwolwespruit.co.za
SUMMARY:SUNDAY FUNDAY
DESCRIPTION:Click below to make your SUNDAY a FUNDAY \nBook for up to 8 people        Book for 8 people or more \n 
URL:https://www.createwolwespruit.co.za/event/sunday-funday/2025-09-07/
LOCATION:Create Wolwespruit\, 501 Jochemus St\, Erasmuskloof\, Pretoria\, Gauteng\, 0048\, South Africa
ORGANIZER;CN="Vicky":MAILTO:info@createwolwespruit.co.za
END:VEVENT
BEGIN:VEVENT
DTSTART;TZID=UTC:20250912T173000
DTEND;TZID=UTC:20250912T210000
DTSTAMP:20260419T175815
CREATED:20241128T083102Z
LAST-MODIFIED:20250528T090100Z
UID:10000101-1757698200-1757710800@www.createwolwespruit.co.za
SUMMARY:PAINT NIGHT
DESCRIPTION:Click below to book for our bi-weekly PAINT NIGHT \nBook for up to 8 people        Book for 8 people or more
URL:https://www.createwolwespruit.co.za/event/paint-night/2025-09-12/
LOCATION:Create Wolwespruit\, 501 Jochemus St\, Erasmuskloof\, Pretoria\, Gauteng\, 0048\, South Africa
ORGANIZER;CN="Vicky":MAILTO:info@createwolwespruit.co.za
END:VEVENT
BEGIN:VEVENT
DTSTART;TZID=UTC:20250913T090000
DTEND;TZID=UTC:20250913T170000
DTSTAMP:20260419T175815
CREATED:20241128T083952Z
LAST-MODIFIED:20241128T084111Z
UID:10000403-1757754000-1757782800@www.createwolwespruit.co.za
SUMMARY:Fills up fast....
DESCRIPTION:Be sure to book as Saturdays fill up fast. Click below \nBook for up to 8 people        Book for 8 people or more
URL:https://www.createwolwespruit.co.za/event/fills-up-fast/2025-09-13/
LOCATION:Create Wolwespruit\, 501 Jochemus St\, Erasmuskloof\, Pretoria\, Gauteng\, 0048\, South Africa
ORGANIZER;CN="Vicky":MAILTO:info@createwolwespruit.co.za
END:VEVENT
BEGIN:VEVENT
DTSTART;TZID=UTC:20250914T080000
DTEND;TZID=UTC:20250914T170000
DTSTAMP:20260419T175815
CREATED:20241128T084951Z
LAST-MODIFIED:20241128T084951Z
UID:10000664-1757836800-1757869200@www.createwolwespruit.co.za
SUMMARY:SUNDAY FUNDAY
DESCRIPTION:Click below to make your SUNDAY a FUNDAY \nBook for up to 8 people        Book for 8 people or more \n 
URL:https://www.createwolwespruit.co.za/event/sunday-funday/2025-09-14/
LOCATION:Create Wolwespruit\, 501 Jochemus St\, Erasmuskloof\, Pretoria\, Gauteng\, 0048\, South Africa
ORGANIZER;CN="Vicky":MAILTO:info@createwolwespruit.co.za
END:VEVENT
BEGIN:VEVENT
DTSTART;TZID=UTC:20250920T090000
DTEND;TZID=UTC:20250920T170000
DTSTAMP:20260419T175815
CREATED:20241128T083952Z
LAST-MODIFIED:20241128T084111Z
UID:10000404-1758358800-1758387600@www.createwolwespruit.co.za
SUMMARY:Fills up fast....
DESCRIPTION:Be sure to book as Saturdays fill up fast. Click below \nBook for up to 8 people        Book for 8 people or more
URL:https://www.createwolwespruit.co.za/event/fills-up-fast/2025-09-20/
LOCATION:Create Wolwespruit\, 501 Jochemus St\, Erasmuskloof\, Pretoria\, Gauteng\, 0048\, South Africa
ORGANIZER;CN="Vicky":MAILTO:info@createwolwespruit.co.za
END:VEVENT
BEGIN:VEVENT
DTSTART;TZID=UTC:20250921T080000
DTEND;TZID=UTC:20250921T170000
DTSTAMP:20260419T175815
CREATED:20241128T084951Z
LAST-MODIFIED:20241128T084951Z
UID:10000665-1758441600-1758474000@www.createwolwespruit.co.za
SUMMARY:SUNDAY FUNDAY
DESCRIPTION:Click below to make your SUNDAY a FUNDAY \nBook for up to 8 people        Book for 8 people or more \n 
URL:https://www.createwolwespruit.co.za/event/sunday-funday/2025-09-21/
LOCATION:Create Wolwespruit\, 501 Jochemus St\, Erasmuskloof\, Pretoria\, Gauteng\, 0048\, South Africa
ORGANIZER;CN="Vicky":MAILTO:info@createwolwespruit.co.za
END:VEVENT
BEGIN:VEVENT
DTSTART;TZID=UTC:20250927T090000
DTEND;TZID=UTC:20250927T170000
DTSTAMP:20260419T175815
CREATED:20241128T083952Z
LAST-MODIFIED:20241128T084111Z
UID:10000405-1758963600-1758992400@www.createwolwespruit.co.za
SUMMARY:Fills up fast....
DESCRIPTION:Be sure to book as Saturdays fill up fast. Click below \nBook for up to 8 people        Book for 8 people or more
URL:https://www.createwolwespruit.co.za/event/fills-up-fast/2025-09-27/
LOCATION:Create Wolwespruit\, 501 Jochemus St\, Erasmuskloof\, Pretoria\, Gauteng\, 0048\, South Africa
ORGANIZER;CN="Vicky":MAILTO:info@createwolwespruit.co.za
END:VEVENT
BEGIN:VEVENT
DTSTART;TZID=UTC:20250928T080000
DTEND;TZID=UTC:20250928T170000
DTSTAMP:20260419T175815
CREATED:20241128T084951Z
LAST-MODIFIED:20241128T084951Z
UID:10000666-1759046400-1759078800@www.createwolwespruit.co.za
SUMMARY:SUNDAY FUNDAY
DESCRIPTION:Click below to make your SUNDAY a FUNDAY \nBook for up to 8 people        Book for 8 people or more \n 
URL:https://www.createwolwespruit.co.za/event/sunday-funday/2025-09-28/
LOCATION:Create Wolwespruit\, 501 Jochemus St\, Erasmuskloof\, Pretoria\, Gauteng\, 0048\, South Africa
ORGANIZER;CN="Vicky":MAILTO:info@createwolwespruit.co.za
END:VEVENT
END:VCALENDAR