BEGIN:VCALENDAR
VERSION:2.0
PRODID:-//Create Wolwespruit - ECPv6.7.0//NONSGML v1.0//EN
CALSCALE:GREGORIAN
METHOD:PUBLISH
X-WR-CALNAME:Create Wolwespruit
X-ORIGINAL-URL:https://www.createwolwespruit.co.za
X-WR-CALDESC:Events for Create Wolwespruit
REFRESH-INTERVAL;VALUE=DURATION:PT1H
X-Robots-Tag:noindex
X-PUBLISHED-TTL:PT1H
BEGIN:VTIMEZONE
TZID:UTC
BEGIN:STANDARD
TZOFFSETFROM:+0000
TZOFFSETTO:+0000
TZNAME:UTC
DTSTART:20250101T000000
END:STANDARD
END:VTIMEZONE
BEGIN:VEVENT
DTSTART;TZID=UTC:20251004T090000
DTEND;TZID=UTC:20251004T170000
DTSTAMP:20260419T162754
CREATED:20241128T083952Z
LAST-MODIFIED:20241128T084111Z
UID:10000406-1759568400-1759597200@www.createwolwespruit.co.za
SUMMARY:Fills up fast....
DESCRIPTION:Be sure to book as Saturdays fill up fast. Click below \nBook for up to 8 people        Book for 8 people or more
URL:https://www.createwolwespruit.co.za/event/fills-up-fast/2025-10-04/
LOCATION:Create Wolwespruit\, 501 Jochemus St\, Erasmuskloof\, Pretoria\, Gauteng\, 0048\, South Africa
ORGANIZER;CN="Vicky":MAILTO:info@createwolwespruit.co.za
END:VEVENT
BEGIN:VEVENT
DTSTART;TZID=UTC:20251005T080000
DTEND;TZID=UTC:20251005T170000
DTSTAMP:20260419T162754
CREATED:20241128T084951Z
LAST-MODIFIED:20241128T084951Z
UID:10000667-1759651200-1759683600@www.createwolwespruit.co.za
SUMMARY:SUNDAY FUNDAY
DESCRIPTION:Click below to make your SUNDAY a FUNDAY \nBook for up to 8 people        Book for 8 people or more \n 
URL:https://www.createwolwespruit.co.za/event/sunday-funday/2025-10-05/
LOCATION:Create Wolwespruit\, 501 Jochemus St\, Erasmuskloof\, Pretoria\, Gauteng\, 0048\, South Africa
ORGANIZER;CN="Vicky":MAILTO:info@createwolwespruit.co.za
END:VEVENT
BEGIN:VEVENT
DTSTART;TZID=UTC:20251010T173000
DTEND;TZID=UTC:20251010T210000
DTSTAMP:20260419T162754
CREATED:20241128T083102Z
LAST-MODIFIED:20250528T090100Z
UID:10000103-1760117400-1760130000@www.createwolwespruit.co.za
SUMMARY:PAINT NIGHT
DESCRIPTION:Click below to book for our bi-weekly PAINT NIGHT \nBook for up to 8 people        Book for 8 people or more
URL:https://www.createwolwespruit.co.za/event/paint-night/2025-10-10/
LOCATION:Create Wolwespruit\, 501 Jochemus St\, Erasmuskloof\, Pretoria\, Gauteng\, 0048\, South Africa
ORGANIZER;CN="Vicky":MAILTO:info@createwolwespruit.co.za
END:VEVENT
BEGIN:VEVENT
DTSTART;TZID=UTC:20251011T090000
DTEND;TZID=UTC:20251011T170000
DTSTAMP:20260419T162754
CREATED:20241128T083952Z
LAST-MODIFIED:20241128T084111Z
UID:10000407-1760173200-1760202000@www.createwolwespruit.co.za
SUMMARY:Fills up fast....
DESCRIPTION:Be sure to book as Saturdays fill up fast. Click below \nBook for up to 8 people        Book for 8 people or more
URL:https://www.createwolwespruit.co.za/event/fills-up-fast/2025-10-11/
LOCATION:Create Wolwespruit\, 501 Jochemus St\, Erasmuskloof\, Pretoria\, Gauteng\, 0048\, South Africa
ORGANIZER;CN="Vicky":MAILTO:info@createwolwespruit.co.za
END:VEVENT
BEGIN:VEVENT
DTSTART;TZID=UTC:20251012T080000
DTEND;TZID=UTC:20251012T170000
DTSTAMP:20260419T162754
CREATED:20241128T084951Z
LAST-MODIFIED:20241128T084951Z
UID:10000668-1760256000-1760288400@www.createwolwespruit.co.za
SUMMARY:SUNDAY FUNDAY
DESCRIPTION:Click below to make your SUNDAY a FUNDAY \nBook for up to 8 people        Book for 8 people or more \n 
URL:https://www.createwolwespruit.co.za/event/sunday-funday/2025-10-12/
LOCATION:Create Wolwespruit\, 501 Jochemus St\, Erasmuskloof\, Pretoria\, Gauteng\, 0048\, South Africa
ORGANIZER;CN="Vicky":MAILTO:info@createwolwespruit.co.za
END:VEVENT
BEGIN:VEVENT
DTSTART;TZID=UTC:20251018T090000
DTEND;TZID=UTC:20251018T170000
DTSTAMP:20260419T162754
CREATED:20241128T083952Z
LAST-MODIFIED:20241128T084111Z
UID:10000408-1760778000-1760806800@www.createwolwespruit.co.za
SUMMARY:Fills up fast....
DESCRIPTION:Be sure to book as Saturdays fill up fast. Click below \nBook for up to 8 people        Book for 8 people or more
URL:https://www.createwolwespruit.co.za/event/fills-up-fast/2025-10-18/
LOCATION:Create Wolwespruit\, 501 Jochemus St\, Erasmuskloof\, Pretoria\, Gauteng\, 0048\, South Africa
ORGANIZER;CN="Vicky":MAILTO:info@createwolwespruit.co.za
END:VEVENT
BEGIN:VEVENT
DTSTART;TZID=UTC:20251019T080000
DTEND;TZID=UTC:20251019T170000
DTSTAMP:20260419T162754
CREATED:20241128T084951Z
LAST-MODIFIED:20241128T084951Z
UID:10000669-1760860800-1760893200@www.createwolwespruit.co.za
SUMMARY:SUNDAY FUNDAY
DESCRIPTION:Click below to make your SUNDAY a FUNDAY \nBook for up to 8 people        Book for 8 people or more \n 
URL:https://www.createwolwespruit.co.za/event/sunday-funday/2025-10-19/
LOCATION:Create Wolwespruit\, 501 Jochemus St\, Erasmuskloof\, Pretoria\, Gauteng\, 0048\, South Africa
ORGANIZER;CN="Vicky":MAILTO:info@createwolwespruit.co.za
END:VEVENT
BEGIN:VEVENT
DTSTART;TZID=UTC:20251024T173000
DTEND;TZID=UTC:20251024T210000
DTSTAMP:20260419T162754
CREATED:20241128T083102Z
LAST-MODIFIED:20250528T090100Z
UID:10000104-1761327000-1761339600@www.createwolwespruit.co.za
SUMMARY:PAINT NIGHT
DESCRIPTION:Click below to book for our bi-weekly PAINT NIGHT \nBook for up to 8 people        Book for 8 people or more
URL:https://www.createwolwespruit.co.za/event/paint-night/2025-10-24/
LOCATION:Create Wolwespruit\, 501 Jochemus St\, Erasmuskloof\, Pretoria\, Gauteng\, 0048\, South Africa
ORGANIZER;CN="Vicky":MAILTO:info@createwolwespruit.co.za
END:VEVENT
BEGIN:VEVENT
DTSTART;TZID=UTC:20251025T090000
DTEND;TZID=UTC:20251025T170000
DTSTAMP:20260419T162754
CREATED:20241128T083952Z
LAST-MODIFIED:20241128T084111Z
UID:10000409-1761382800-1761411600@www.createwolwespruit.co.za
SUMMARY:Fills up fast....
DESCRIPTION:Be sure to book as Saturdays fill up fast. Click below \nBook for up to 8 people        Book for 8 people or more
URL:https://www.createwolwespruit.co.za/event/fills-up-fast/2025-10-25/
LOCATION:Create Wolwespruit\, 501 Jochemus St\, Erasmuskloof\, Pretoria\, Gauteng\, 0048\, South Africa
ORGANIZER;CN="Vicky":MAILTO:info@createwolwespruit.co.za
END:VEVENT
BEGIN:VEVENT
DTSTART;TZID=UTC:20251026T080000
DTEND;TZID=UTC:20251026T170000
DTSTAMP:20260419T162754
CREATED:20241128T084951Z
LAST-MODIFIED:20241128T084951Z
UID:10000670-1761465600-1761498000@www.createwolwespruit.co.za
SUMMARY:SUNDAY FUNDAY
DESCRIPTION:Click below to make your SUNDAY a FUNDAY \nBook for up to 8 people        Book for 8 people or more \n 
URL:https://www.createwolwespruit.co.za/event/sunday-funday/2025-10-26/
LOCATION:Create Wolwespruit\, 501 Jochemus St\, Erasmuskloof\, Pretoria\, Gauteng\, 0048\, South Africa
ORGANIZER;CN="Vicky":MAILTO:info@createwolwespruit.co.za
END:VEVENT
END:VCALENDAR