BEGIN:VCALENDAR
VERSION:2.0
PRODID:-//Create Wolwespruit - ECPv6.7.0//NONSGML v1.0//EN
CALSCALE:GREGORIAN
METHOD:PUBLISH
X-WR-CALNAME:Create Wolwespruit
X-ORIGINAL-URL:https://www.createwolwespruit.co.za
X-WR-CALDESC:Events for Create Wolwespruit
REFRESH-INTERVAL;VALUE=DURATION:PT1H
X-Robots-Tag:noindex
X-PUBLISHED-TTL:PT1H
BEGIN:VTIMEZONE
TZID:UTC
BEGIN:STANDARD
TZOFFSETFROM:+0000
TZOFFSETTO:+0000
TZNAME:UTC
DTSTART:20260101T000000
END:STANDARD
END:VTIMEZONE
BEGIN:VEVENT
DTSTART;TZID=UTC:20260201T080000
DTEND;TZID=UTC:20260201T170000
DTSTAMP:20260419T133519
CREATED:20241128T084951Z
LAST-MODIFIED:20241128T084951Z
UID:10000684-1769932800-1769965200@www.createwolwespruit.co.za
SUMMARY:SUNDAY FUNDAY
DESCRIPTION:Click below to make your SUNDAY a FUNDAY \nBook for up to 8 people        Book for 8 people or more \n 
URL:https://www.createwolwespruit.co.za/event/sunday-funday/2026-02-01/
LOCATION:Create Wolwespruit\, 501 Jochemus St\, Erasmuskloof\, Pretoria\, Gauteng\, 0048\, South Africa
ORGANIZER;CN="Vicky":MAILTO:info@createwolwespruit.co.za
END:VEVENT
BEGIN:VEVENT
DTSTART;TZID=UTC:20260207T090000
DTEND;TZID=UTC:20260207T170000
DTSTAMP:20260419T133519
CREATED:20241128T083952Z
LAST-MODIFIED:20241128T084111Z
UID:10000424-1770454800-1770483600@www.createwolwespruit.co.za
SUMMARY:Fills up fast....
DESCRIPTION:Be sure to book as Saturdays fill up fast. Click below \nBook for up to 8 people        Book for 8 people or more
URL:https://www.createwolwespruit.co.za/event/fills-up-fast/2026-02-07/
LOCATION:Create Wolwespruit\, 501 Jochemus St\, Erasmuskloof\, Pretoria\, Gauteng\, 0048\, South Africa
ORGANIZER;CN="Vicky":MAILTO:info@createwolwespruit.co.za
END:VEVENT
BEGIN:VEVENT
DTSTART;TZID=UTC:20260208T080000
DTEND;TZID=UTC:20260208T170000
DTSTAMP:20260419T133519
CREATED:20241128T084951Z
LAST-MODIFIED:20241128T084951Z
UID:10000685-1770537600-1770570000@www.createwolwespruit.co.za
SUMMARY:SUNDAY FUNDAY
DESCRIPTION:Click below to make your SUNDAY a FUNDAY \nBook for up to 8 people        Book for 8 people or more \n 
URL:https://www.createwolwespruit.co.za/event/sunday-funday/2026-02-08/
LOCATION:Create Wolwespruit\, 501 Jochemus St\, Erasmuskloof\, Pretoria\, Gauteng\, 0048\, South Africa
ORGANIZER;CN="Vicky":MAILTO:info@createwolwespruit.co.za
END:VEVENT
BEGIN:VEVENT
DTSTART;TZID=UTC:20260214T090000
DTEND;TZID=UTC:20260214T170000
DTSTAMP:20260419T133519
CREATED:20241128T083952Z
LAST-MODIFIED:20241128T084111Z
UID:10000425-1771059600-1771088400@www.createwolwespruit.co.za
SUMMARY:Fills up fast....
DESCRIPTION:Be sure to book as Saturdays fill up fast. Click below \nBook for up to 8 people        Book for 8 people or more
URL:https://www.createwolwespruit.co.za/event/fills-up-fast/2026-02-14/
LOCATION:Create Wolwespruit\, 501 Jochemus St\, Erasmuskloof\, Pretoria\, Gauteng\, 0048\, South Africa
ORGANIZER;CN="Vicky":MAILTO:info@createwolwespruit.co.za
END:VEVENT
BEGIN:VEVENT
DTSTART;TZID=UTC:20260215T080000
DTEND;TZID=UTC:20260215T170000
DTSTAMP:20260419T133519
CREATED:20241128T084951Z
LAST-MODIFIED:20241128T084951Z
UID:10000686-1771142400-1771174800@www.createwolwespruit.co.za
SUMMARY:SUNDAY FUNDAY
DESCRIPTION:Click below to make your SUNDAY a FUNDAY \nBook for up to 8 people        Book for 8 people or more \n 
URL:https://www.createwolwespruit.co.za/event/sunday-funday/2026-02-15/
LOCATION:Create Wolwespruit\, 501 Jochemus St\, Erasmuskloof\, Pretoria\, Gauteng\, 0048\, South Africa
ORGANIZER;CN="Vicky":MAILTO:info@createwolwespruit.co.za
END:VEVENT
BEGIN:VEVENT
DTSTART;TZID=UTC:20260221T090000
DTEND;TZID=UTC:20260221T170000
DTSTAMP:20260419T133519
CREATED:20241128T083952Z
LAST-MODIFIED:20241128T084111Z
UID:10000426-1771664400-1771693200@www.createwolwespruit.co.za
SUMMARY:Fills up fast....
DESCRIPTION:Be sure to book as Saturdays fill up fast. Click below \nBook for up to 8 people        Book for 8 people or more
URL:https://www.createwolwespruit.co.za/event/fills-up-fast/2026-02-21/
LOCATION:Create Wolwespruit\, 501 Jochemus St\, Erasmuskloof\, Pretoria\, Gauteng\, 0048\, South Africa
ORGANIZER;CN="Vicky":MAILTO:info@createwolwespruit.co.za
END:VEVENT
BEGIN:VEVENT
DTSTART;TZID=UTC:20260222T080000
DTEND;TZID=UTC:20260222T170000
DTSTAMP:20260419T133519
CREATED:20241128T084951Z
LAST-MODIFIED:20241128T084951Z
UID:10000687-1771747200-1771779600@www.createwolwespruit.co.za
SUMMARY:SUNDAY FUNDAY
DESCRIPTION:Click below to make your SUNDAY a FUNDAY \nBook for up to 8 people        Book for 8 people or more \n 
URL:https://www.createwolwespruit.co.za/event/sunday-funday/2026-02-22/
LOCATION:Create Wolwespruit\, 501 Jochemus St\, Erasmuskloof\, Pretoria\, Gauteng\, 0048\, South Africa
ORGANIZER;CN="Vicky":MAILTO:info@createwolwespruit.co.za
END:VEVENT
BEGIN:VEVENT
DTSTART;TZID=UTC:20260228T090000
DTEND;TZID=UTC:20260228T170000
DTSTAMP:20260419T133519
CREATED:20241128T083952Z
LAST-MODIFIED:20241128T084111Z
UID:10000427-1772269200-1772298000@www.createwolwespruit.co.za
SUMMARY:Fills up fast....
DESCRIPTION:Be sure to book as Saturdays fill up fast. Click below \nBook for up to 8 people        Book for 8 people or more
URL:https://www.createwolwespruit.co.za/event/fills-up-fast/2026-02-28/
LOCATION:Create Wolwespruit\, 501 Jochemus St\, Erasmuskloof\, Pretoria\, Gauteng\, 0048\, South Africa
ORGANIZER;CN="Vicky":MAILTO:info@createwolwespruit.co.za
END:VEVENT
END:VCALENDAR